BEGIN:VCALENDAR
VERSION:2.0
PRODID:-//Club Sportif Feytiat - ECPv6.15.20//NONSGML v1.0//EN
CALSCALE:GREGORIAN
METHOD:PUBLISH
X-ORIGINAL-URL:https://csfeytiat.fr
X-WR-CALDESC:Évènements pour Club Sportif Feytiat
REFRESH-INTERVAL;VALUE=DURATION:PT1H
X-Robots-Tag:noindex
X-PUBLISHED-TTL:PT1H
BEGIN:VTIMEZONE
TZID:Europe/Paris
BEGIN:DAYLIGHT
TZOFFSETFROM:+0100
TZOFFSETTO:+0200
TZNAME:CEST
DTSTART:20250330T010000
END:DAYLIGHT
BEGIN:STANDARD
TZOFFSETFROM:+0200
TZOFFSETTO:+0100
TZNAME:CET
DTSTART:20251026T010000
END:STANDARD
BEGIN:DAYLIGHT
TZOFFSETFROM:+0100
TZOFFSETTO:+0200
TZNAME:CEST
DTSTART:20260329T010000
END:DAYLIGHT
BEGIN:STANDARD
TZOFFSETFROM:+0200
TZOFFSETTO:+0100
TZNAME:CET
DTSTART:20261025T010000
END:STANDARD
BEGIN:DAYLIGHT
TZOFFSETFROM:+0100
TZOFFSETTO:+0200
TZNAME:CEST
DTSTART:20270328T010000
END:DAYLIGHT
BEGIN:STANDARD
TZOFFSETFROM:+0200
TZOFFSETTO:+0100
TZNAME:CET
DTSTART:20271031T010000
END:STANDARD
END:VTIMEZONE
BEGIN:VEVENT
DTSTART;TZID=Europe/Paris:20260131T190000
DTEND;TZID=Europe/Paris:20260131T210000
DTSTAMP:20260425T013854
CREATED:20260129T195709Z
LAST-MODIFIED:20260129T200525Z
UID:3023-1769886000-1769893200@csfeytiat.fr
SUMMARY:Séniors Régional 1 : Neuville / CS Feytiat
DESCRIPTION:
URL:https://csfeytiat.fr/event/seniors-regional-1-neuville-cs-feytiat/
CATEGORIES:Seniors
END:VEVENT
BEGIN:VEVENT
DTSTART;TZID=Europe/Paris:20260131T190000
DTEND;TZID=Europe/Paris:20260131T220000
DTSTAMP:20260425T013854
CREATED:20250829T170053Z
LAST-MODIFIED:20260129T202105Z
UID:2864-1769886000-1769896800@csfeytiat.fr
SUMMARY:Séniors Régional 3 : CS Feytiat 2 / Ussel
DESCRIPTION:
URL:https://csfeytiat.fr/event/seniors-regional-3-cs-feytiat-2-ussel/
LOCATION:Stade Couderc\, Rue du manége\, FEYTIAT\, 87220\, France
CATEGORIES:Seniors
END:VEVENT
END:VCALENDAR