BEGIN:VCALENDAR
VERSION:2.0
PRODID:-//Club Sportif Feytiat - ECPv6.15.20//NONSGML v1.0//EN
CALSCALE:GREGORIAN
METHOD:PUBLISH
X-ORIGINAL-URL:https://csfeytiat.fr
X-WR-CALDESC:Évènements pour Club Sportif Feytiat
REFRESH-INTERVAL;VALUE=DURATION:PT1H
X-Robots-Tag:noindex
X-PUBLISHED-TTL:PT1H
BEGIN:VTIMEZONE
TZID:Europe/Paris
BEGIN:DAYLIGHT
TZOFFSETFROM:+0100
TZOFFSETTO:+0200
TZNAME:CEST
DTSTART:20250330T010000
END:DAYLIGHT
BEGIN:STANDARD
TZOFFSETFROM:+0200
TZOFFSETTO:+0100
TZNAME:CET
DTSTART:20251026T010000
END:STANDARD
BEGIN:DAYLIGHT
TZOFFSETFROM:+0100
TZOFFSETTO:+0200
TZNAME:CEST
DTSTART:20260329T010000
END:DAYLIGHT
BEGIN:STANDARD
TZOFFSETFROM:+0200
TZOFFSETTO:+0100
TZNAME:CET
DTSTART:20261025T010000
END:STANDARD
BEGIN:DAYLIGHT
TZOFFSETFROM:+0100
TZOFFSETTO:+0200
TZNAME:CEST
DTSTART:20270328T010000
END:DAYLIGHT
BEGIN:STANDARD
TZOFFSETFROM:+0200
TZOFFSETTO:+0100
TZNAME:CET
DTSTART:20271031T010000
END:STANDARD
END:VTIMEZONE
BEGIN:VEVENT
DTSTART;TZID=Europe/Paris:20260124T190000
DTEND;TZID=Europe/Paris:20260124T210000
DTSTAMP:20260425T032001
CREATED:20260117T123746Z
LAST-MODIFIED:20260117T123950Z
UID:2922-1769281200-1769288400@csfeytiat.fr
SUMMARY:Seniors Regional 3 CS Feytiat 2/ Saint Leonard de Noblat
DESCRIPTION:
URL:https://csfeytiat.fr/event/cs-feytiat-2-saint-leonard-de-noblat/
CATEGORIES:Seniors
END:VEVENT
BEGIN:VEVENT
DTSTART;TZID=Europe/Paris:20260124T190000
DTEND;TZID=Europe/Paris:20260124T220000
DTSTAMP:20260425T032001
CREATED:20250829T165043Z
LAST-MODIFIED:20260129T195854Z
UID:2848-1769281200-1769292000@csfeytiat.fr
SUMMARY:Séniors Régional 1 : CS Feytiat / Buxerolles
DESCRIPTION:
URL:https://csfeytiat.fr/event/seniors-regional-1-cs-feytiat-buxerolles/
LOCATION:Stade Couderc\, Rue du manége\, FEYTIAT\, 87220\, France
CATEGORIES:Seniors
END:VEVENT
END:VCALENDAR