BEGIN:VCALENDAR
VERSION:2.0
PRODID:-//Club Sportif Feytiat - ECPv6.15.20//NONSGML v1.0//EN
CALSCALE:GREGORIAN
METHOD:PUBLISH
X-ORIGINAL-URL:https://csfeytiat.fr
X-WR-CALDESC:Évènements pour Club Sportif Feytiat
REFRESH-INTERVAL;VALUE=DURATION:PT1H
X-Robots-Tag:noindex
X-PUBLISHED-TTL:PT1H
BEGIN:VTIMEZONE
TZID:Europe/Paris
BEGIN:DAYLIGHT
TZOFFSETFROM:+0100
TZOFFSETTO:+0200
TZNAME:CEST
DTSTART:20250330T010000
END:DAYLIGHT
BEGIN:STANDARD
TZOFFSETFROM:+0200
TZOFFSETTO:+0100
TZNAME:CET
DTSTART:20251026T010000
END:STANDARD
BEGIN:DAYLIGHT
TZOFFSETFROM:+0100
TZOFFSETTO:+0200
TZNAME:CEST
DTSTART:20260329T010000
END:DAYLIGHT
BEGIN:STANDARD
TZOFFSETFROM:+0200
TZOFFSETTO:+0100
TZNAME:CET
DTSTART:20261025T010000
END:STANDARD
BEGIN:DAYLIGHT
TZOFFSETFROM:+0100
TZOFFSETTO:+0200
TZNAME:CEST
DTSTART:20270328T010000
END:DAYLIGHT
BEGIN:STANDARD
TZOFFSETFROM:+0200
TZOFFSETTO:+0100
TZNAME:CET
DTSTART:20271031T010000
END:STANDARD
END:VTIMEZONE
BEGIN:VEVENT
DTSTART;TZID=Europe/Paris:20260301T150000
DTEND;TZID=Europe/Paris:20260301T170000
DTSTAMP:20260424T084708
CREATED:20260125T130312Z
LAST-MODIFIED:20260129T203554Z
UID:2957-1772377200-1772384400@csfeytiat.fr
SUMMARY:Séniors Départemental 3 : CS Feytiat 4 / Bosmie Charroux ASA
DESCRIPTION:
URL:https://csfeytiat.fr/event/seniors-departemental-3-cs-feytiat-4-bosmie-charroux-asa/
CATEGORIES:Seniors
END:VEVENT
BEGIN:VEVENT
DTSTART;TZID=Europe/Paris:20260308T150000
DTEND;TZID=Europe/Paris:20260308T170000
DTSTAMP:20260424T084708
CREATED:20260125T125307Z
LAST-MODIFIED:20260129T203515Z
UID:2944-1772982000-1772989200@csfeytiat.fr
SUMMARY:Séniors Départemental 2 : CS Feytiat 3 / Etoile Sportive de Beaubreuil
DESCRIPTION:
URL:https://csfeytiat.fr/event/seniors-departemental-2-cs-feytiat-3-etoile-sportive-de-beaubreuil/
LOCATION:Stade Lacore\, 47 Avenue de la Liberation\, FEYTIAT\, 87220\, France
CATEGORIES:Seniors
END:VEVENT
BEGIN:VEVENT
DTSTART;TZID=Europe/Paris:20260322T150000
DTEND;TZID=Europe/Paris:20260322T170000
DTSTAMP:20260424T084708
CREATED:20260125T130429Z
LAST-MODIFIED:20260129T203320Z
UID:2959-1774191600-1774198800@csfeytiat.fr
SUMMARY:Séniors Départemental 3 : CS Feytiat 4 / Chateauneuf Neuvic
DESCRIPTION:
URL:https://csfeytiat.fr/event/seniors-departemental-3-cs-feytiat-4-chateauneuf-neuvic/
CATEGORIES:Seniors
END:VEVENT
BEGIN:VEVENT
DTSTART;TZID=Europe/Paris:20260329T150000
DTEND;TZID=Europe/Paris:20260329T170000
DTSTAMP:20260424T084708
CREATED:20260125T125513Z
LAST-MODIFIED:20260129T203237Z
UID:2946-1774796400-1774803600@csfeytiat.fr
SUMMARY:Séniors Départemental 2 : CS Feytiat 3 / Saint Brice sur Vienne
DESCRIPTION:
URL:https://csfeytiat.fr/event/seniors-departemental-2-cs-feytiat-3-saint-brice-sur-vienne/
LOCATION:Stade Lacore\, 47 Avenue de la Liberation\, FEYTIAT\, 87220\, France
CATEGORIES:Seniors
END:VEVENT
BEGIN:VEVENT
DTSTART;TZID=Europe/Paris:20260329T150000
DTEND;TZID=Europe/Paris:20260329T170000
DTSTAMP:20260424T084708
CREATED:20260129T202313Z
LAST-MODIFIED:20260129T202822Z
UID:3045-1774796400-1774803600@csfeytiat.fr
SUMMARY:Séniors Régional 3 : Panazol 2 / CS Feytiat 2
DESCRIPTION:
URL:https://csfeytiat.fr/event/seniors-regional-3-panazol2-cs-feytiat-2/
CATEGORIES:Seniors
END:VEVENT
END:VCALENDAR