BEGIN:VCALENDAR
VERSION:2.0
PRODID:-//Club Sportif Feytiat - ECPv6.15.20//NONSGML v1.0//EN
CALSCALE:GREGORIAN
METHOD:PUBLISH
X-ORIGINAL-URL:https://csfeytiat.fr
X-WR-CALDESC:Évènements pour Club Sportif Feytiat
REFRESH-INTERVAL;VALUE=DURATION:PT1H
X-Robots-Tag:noindex
X-PUBLISHED-TTL:PT1H
BEGIN:VTIMEZONE
TZID:Europe/Paris
BEGIN:DAYLIGHT
TZOFFSETFROM:+0100
TZOFFSETTO:+0200
TZNAME:CEST
DTSTART:20250330T010000
END:DAYLIGHT
BEGIN:STANDARD
TZOFFSETFROM:+0200
TZOFFSETTO:+0100
TZNAME:CET
DTSTART:20251026T010000
END:STANDARD
BEGIN:DAYLIGHT
TZOFFSETFROM:+0100
TZOFFSETTO:+0200
TZNAME:CEST
DTSTART:20260329T010000
END:DAYLIGHT
BEGIN:STANDARD
TZOFFSETFROM:+0200
TZOFFSETTO:+0100
TZNAME:CET
DTSTART:20261025T010000
END:STANDARD
BEGIN:DAYLIGHT
TZOFFSETFROM:+0100
TZOFFSETTO:+0200
TZNAME:CEST
DTSTART:20270328T010000
END:DAYLIGHT
BEGIN:STANDARD
TZOFFSETFROM:+0200
TZOFFSETTO:+0100
TZNAME:CET
DTSTART:20271031T010000
END:STANDARD
END:VTIMEZONE
BEGIN:VEVENT
DTSTART;TZID=Europe/Paris:20260328T130000
DTEND;TZID=Europe/Paris:20260328T150000
DTSTAMP:20260424T232932
CREATED:20260129T204803Z
LAST-MODIFIED:20260129T204803Z
UID:3056-1774702800-1774710000@csfeytiat.fr
SUMMARY:U17 Régional 1 : Perigny / CS Feytiat
DESCRIPTION:
URL:https://csfeytiat.fr/event/u17-regional-1-perigny-cs-feytiat/
CATEGORIES:Jeunes
END:VEVENT
BEGIN:VEVENT
DTSTART;TZID=Europe/Paris:20260328T150000
DTEND;TZID=Europe/Paris:20260328T170000
DTSTAMP:20260424T232932
CREATED:20260129T194010Z
LAST-MODIFIED:20260129T203309Z
UID:2998-1774710000-1774717200@csfeytiat.fr
SUMMARY:U16 Régional 2 : CS Feytiat / Espoir sud Poitiers
DESCRIPTION:
URL:https://csfeytiat.fr/event/u16-regional-2-cs-feytiat-espoir-sud-poitiers/
LOCATION:Stade Couderc\, Rue du manége\, FEYTIAT\, 87220\, France
CATEGORIES:Jeunes
END:VEVENT
BEGIN:VEVENT
DTSTART;TZID=Europe/Paris:20260328T150000
DTEND;TZID=Europe/Paris:20260328T170000
DTSTAMP:20260424T232932
CREATED:20260129T194929Z
LAST-MODIFIED:20260129T203258Z
UID:3013-1774710000-1774717200@csfeytiat.fr
SUMMARY:U15 : Ambazac /CS Feytiat
DESCRIPTION:
URL:https://csfeytiat.fr/event/u15-ambazac-cs-feytiat/
LOCATION:Stade Lacore\, 47 Avenue de la Liberation\, FEYTIAT\, 87220\, France
CATEGORIES:Jeunes
END:VEVENT
END:VCALENDAR