BEGIN:VCALENDAR
VERSION:2.0
PRODID:-//Club Sportif Feytiat - ECPv6.15.20//NONSGML v1.0//EN
CALSCALE:GREGORIAN
METHOD:PUBLISH
X-ORIGINAL-URL:https://csfeytiat.fr
X-WR-CALDESC:Évènements pour Club Sportif Feytiat
REFRESH-INTERVAL;VALUE=DURATION:PT1H
X-Robots-Tag:noindex
X-PUBLISHED-TTL:PT1H
BEGIN:VTIMEZONE
TZID:Europe/Paris
BEGIN:DAYLIGHT
TZOFFSETFROM:+0100
TZOFFSETTO:+0200
TZNAME:CEST
DTSTART:20240331T010000
END:DAYLIGHT
BEGIN:STANDARD
TZOFFSETFROM:+0200
TZOFFSETTO:+0100
TZNAME:CET
DTSTART:20241027T010000
END:STANDARD
BEGIN:DAYLIGHT
TZOFFSETFROM:+0100
TZOFFSETTO:+0200
TZNAME:CEST
DTSTART:20250330T010000
END:DAYLIGHT
BEGIN:STANDARD
TZOFFSETFROM:+0200
TZOFFSETTO:+0100
TZNAME:CET
DTSTART:20251026T010000
END:STANDARD
BEGIN:DAYLIGHT
TZOFFSETFROM:+0100
TZOFFSETTO:+0200
TZNAME:CEST
DTSTART:20260329T010000
END:DAYLIGHT
BEGIN:STANDARD
TZOFFSETFROM:+0200
TZOFFSETTO:+0100
TZNAME:CET
DTSTART:20261025T010000
END:STANDARD
END:VTIMEZONE
BEGIN:VEVENT
DTSTART;TZID=Europe/Paris:20251108T150000
DTEND;TZID=Europe/Paris:20251108T170000
DTSTAMP:20260425T043638
CREATED:20250827T200423Z
LAST-MODIFIED:20250827T200423Z
UID:2826-1762614000-1762621200@csfeytiat.fr
SUMMARY:U17 Régional 1 : CS Feytiat / Verneuil S/Vienne Sc
DESCRIPTION:
URL:https://csfeytiat.fr/event/u17-regional-1-cs-feytiat-verneuil-s-vienne-sc/
LOCATION:Stade Couderc\, Rue du manége\, FEYTIAT\, 87220\, France
CATEGORIES:Jeunes
END:VEVENT
BEGIN:VEVENT
DTSTART;TZID=Europe/Paris:20251129T150000
DTEND;TZID=Europe/Paris:20251129T170000
DTSTAMP:20260425T043638
CREATED:20250829T163914Z
LAST-MODIFIED:20250829T163914Z
UID:2840-1764428400-1764435600@csfeytiat.fr
SUMMARY:U17 Régional 1 : CS Feytiat / Perigny Fc
DESCRIPTION:
URL:https://csfeytiat.fr/event/u17-regional-1-cs-feytiat-perigny-fc/
LOCATION:Stade Couderc\, Rue du manége\, FEYTIAT\, 87220\, France
CATEGORIES:Jeunes
END:VEVENT
END:VCALENDAR