BEGIN:VCALENDAR
VERSION:2.0
PRODID:-//Club Sportif Feytiat - ECPv6.15.20//NONSGML v1.0//EN
CALSCALE:GREGORIAN
METHOD:PUBLISH
X-WR-CALNAME:Club Sportif Feytiat
X-ORIGINAL-URL:https://csfeytiat.fr
X-WR-CALDESC:Évènements pour Club Sportif Feytiat
REFRESH-INTERVAL;VALUE=DURATION:PT1H
X-Robots-Tag:noindex
X-PUBLISHED-TTL:PT1H
BEGIN:VTIMEZONE
TZID:Europe/Paris
BEGIN:DAYLIGHT
TZOFFSETFROM:+0100
TZOFFSETTO:+0200
TZNAME:CEST
DTSTART:20250330T010000
END:DAYLIGHT
BEGIN:STANDARD
TZOFFSETFROM:+0200
TZOFFSETTO:+0100
TZNAME:CET
DTSTART:20251026T010000
END:STANDARD
BEGIN:DAYLIGHT
TZOFFSETFROM:+0100
TZOFFSETTO:+0200
TZNAME:CEST
DTSTART:20260329T010000
END:DAYLIGHT
BEGIN:STANDARD
TZOFFSETFROM:+0200
TZOFFSETTO:+0100
TZNAME:CET
DTSTART:20261025T010000
END:STANDARD
BEGIN:DAYLIGHT
TZOFFSETFROM:+0100
TZOFFSETTO:+0200
TZNAME:CEST
DTSTART:20270328T010000
END:DAYLIGHT
BEGIN:STANDARD
TZOFFSETFROM:+0200
TZOFFSETTO:+0100
TZNAME:CET
DTSTART:20271031T010000
END:STANDARD
END:VTIMEZONE
BEGIN:VEVENT
DTSTART;TZID=Europe/Paris:20260523T150000
DTEND;TZID=Europe/Paris:20260523T170000
DTSTAMP:20260425T225824
CREATED:20260129T194320Z
LAST-MODIFIED:20260129T203012Z
UID:3002-1779548400-1779555600@csfeytiat.fr
SUMMARY:U16 Régional 2 : CS Feytiat / Thouars
DESCRIPTION:
URL:https://csfeytiat.fr/event/u16-regional-2-cs-feytiat-thouars/
LOCATION:Stade Couderc\, Rue du manége\, FEYTIAT\, 87220\, France
CATEGORIES:Jeunes
END:VEVENT
BEGIN:VEVENT
DTSTART;TZID=Europe/Paris:20260523T150000
DTEND;TZID=Europe/Paris:20260523T170000
DTSTAMP:20260425T225824
CREATED:20260129T195207Z
LAST-MODIFIED:20260129T203021Z
UID:3019-1779548400-1779555600@csfeytiat.fr
SUMMARY:U15 : CS Feytiat / Pays Arédien
DESCRIPTION:
URL:https://csfeytiat.fr/event/u15-cs-feytiat-pays-aredien/
LOCATION:Stade Lacore\, 47 Avenue de la Liberation\, FEYTIAT\, 87220\, France
CATEGORIES:Jeunes
END:VEVENT
BEGIN:VEVENT
DTSTART;TZID=Europe/Paris:20260523T150000
DTEND;TZID=Europe/Paris:20260523T170000
DTSTAMP:20260425T225824
CREATED:20260129T205031Z
LAST-MODIFIED:20260129T205031Z
UID:3059-1779548400-1779555600@csfeytiat.fr
SUMMARY:U17 Régional 1 : Cognac / CS Feytiat
DESCRIPTION:
URL:https://csfeytiat.fr/event/u17-regional-1-cognac-cs-feytiat/
CATEGORIES:Jeunes
END:VEVENT
BEGIN:VEVENT
DTSTART;TZID=Europe/Paris:20260523T190000
DTEND;TZID=Europe/Paris:20260523T210000
DTSTAMP:20260425T225824
CREATED:20260129T200328Z
LAST-MODIFIED:20260129T200350Z
UID:3034-1779562800-1779570000@csfeytiat.fr
SUMMARY:Séniors Régional 1 : Buxerolles / CS Feytiat
DESCRIPTION:
URL:https://csfeytiat.fr/event/seniors-regional-1-buxerolles-cs-feytiat/
CATEGORIES:Seniors
END:VEVENT
END:VCALENDAR