BEGIN:VCALENDAR
VERSION:2.0
PRODID:-//Club Sportif Feytiat - ECPv6.15.20//NONSGML v1.0//EN
CALSCALE:GREGORIAN
METHOD:PUBLISH
X-ORIGINAL-URL:https://csfeytiat.fr
X-WR-CALDESC:Évènements pour Club Sportif Feytiat
REFRESH-INTERVAL;VALUE=DURATION:PT1H
X-Robots-Tag:noindex
X-PUBLISHED-TTL:PT1H
BEGIN:VTIMEZONE
TZID:Europe/Paris
BEGIN:DAYLIGHT
TZOFFSETFROM:+0100
TZOFFSETTO:+0200
TZNAME:CEST
DTSTART:20250330T010000
END:DAYLIGHT
BEGIN:STANDARD
TZOFFSETFROM:+0200
TZOFFSETTO:+0100
TZNAME:CET
DTSTART:20251026T010000
END:STANDARD
BEGIN:DAYLIGHT
TZOFFSETFROM:+0100
TZOFFSETTO:+0200
TZNAME:CEST
DTSTART:20260329T010000
END:DAYLIGHT
BEGIN:STANDARD
TZOFFSETFROM:+0200
TZOFFSETTO:+0100
TZNAME:CET
DTSTART:20261025T010000
END:STANDARD
BEGIN:DAYLIGHT
TZOFFSETFROM:+0100
TZOFFSETTO:+0200
TZNAME:CEST
DTSTART:20270328T010000
END:DAYLIGHT
BEGIN:STANDARD
TZOFFSETFROM:+0200
TZOFFSETTO:+0100
TZNAME:CET
DTSTART:20271031T010000
END:STANDARD
END:VTIMEZONE
BEGIN:VEVENT
DTSTART;TZID=Europe/Paris:20260207T150000
DTEND;TZID=Europe/Paris:20260207T170000
DTSTAMP:20260426T005137
CREATED:20260129T192035Z
LAST-MODIFIED:20260129T204352Z
UID:2965-1770476400-1770483600@csfeytiat.fr
SUMMARY:U17 Régional 1 : CS Feytiat  / Guéret
DESCRIPTION:
URL:https://csfeytiat.fr/event/u17-regional-1-cs-feytiat-gueret/
LOCATION:Stade Couderc\, Rue du manége\, FEYTIAT\, 87220\, France
CATEGORIES:Jeunes
END:VEVENT
BEGIN:VEVENT
DTSTART;TZID=Europe/Paris:20260207T190000
DTEND;TZID=Europe/Paris:20260207T200000
DTSTAMP:20260426T005137
CREATED:20260129T202215Z
LAST-MODIFIED:20260129T202722Z
UID:3043-1770490800-1770494400@csfeytiat.fr
SUMMARY:Séniors Régional 3 : Avenir Nord foot / CS Feytiat 2
DESCRIPTION:
URL:https://csfeytiat.fr/event/seniors-regional-3-avenir-nord-foot-cs-feytiat-2-2/
CATEGORIES:Seniors
END:VEVENT
BEGIN:VEVENT
DTSTART;TZID=Europe/Paris:20260207T190000
DTEND;TZID=Europe/Paris:20260207T210000
DTSTAMP:20260426T005137
CREATED:20260117T124213Z
LAST-MODIFIED:20260129T204534Z
UID:2927-1770490800-1770498000@csfeytiat.fr
SUMMARY:Séniors Régional 3 : Avenir Nord Foot / CS Feytiat 2
DESCRIPTION:
URL:https://csfeytiat.fr/event/seniors-regional-3-avenir-nord-foot-cs-feytiat-2/
CATEGORIES:Seniors
END:VEVENT
BEGIN:VEVENT
DTSTART;TZID=Europe/Paris:20260207T190000
DTEND;TZID=Europe/Paris:20260207T220000
DTSTAMP:20260426T005137
CREATED:20250829T165214Z
LAST-MODIFIED:20260129T204545Z
UID:2850-1770490800-1770501600@csfeytiat.fr
SUMMARY:Séniors Régional 1 : CS Feytiat / Parthenay Viennay Rc
DESCRIPTION:
URL:https://csfeytiat.fr/event/seniors-regional-1-cs-feytiat-parthenay-viennay-rc/
LOCATION:Stade Couderc\, Rue du manége\, FEYTIAT\, 87220\, France
CATEGORIES:Seniors
END:VEVENT
END:VCALENDAR